BEGIN:VCALENDAR
VERSION:2.0
PRODID:-//hacksw/handcal//NONSGML v1.0//EN
CALSCALE:GREGORIAN
BEGIN:VEVENT
LOCATION:theMART\, 222 Merchandise Mart Plaza\, Chicago\, IL
DESCRIPTION:https://chicagoonthecheap.com/event/one-of-a-kind-spring-show/
DTSTART;TZID=America/Chicago:20260424T100000
DTEND;TZID=America/Chicago:20260426T190000
SUMMARY:One of a Kind spring show
URL;VALUE=URI:https://chicagoonthecheap.com/event/one-of-a-kind-spring-show/
DTSTAMP:20260420T062938
UID:69e60e2232914
END:VEVENT
END:VCALENDAR