BEGIN:VCALENDAR
VERSION:2.0
PRODID:-//hacksw/handcal//NONSGML v1.0//EN
CALSCALE:GREGORIAN
BEGIN:VEVENT
LOCATION:
DESCRIPTION:https://chicagoonthecheap.com/event/chicago-irish-film-fest/
DTSTART;TZID=America/Chicago:20260420T050600
DTEND;TZID=America/Chicago:20260420T050600
SUMMARY:Chicago Irish Film Fest
URL;VALUE=URI:https://chicagoonthecheap.com/event/chicago-irish-film-fest/
DTSTAMP:20260420T050615
UID:69e5fa97f3cd8
END:VEVENT
END:VCALENDAR