BEGIN:VCALENDAR
VERSION:2.0
PRODID:-//hacksw/handcal//NONSGML v1.0//EN
CALSCALE:GREGORIAN
BEGIN:VEVENT
LOCATION:Chicago Cultural Center\, 78 E. Washington St.\, Chicago\, IL
DESCRIPTION:https://chicagoonthecheap.com/event/chicago-hosts-international-jazz-day-with-free-concerts/
DTSTART;TZID=America/Chicago:20260421T000000
DTEND;TZID=America/Chicago:20260502T235900
SUMMARY:International Jazz Day
URL;VALUE=URI:https://chicagoonthecheap.com/event/chicago-hosts-international-jazz-day-with-free-concerts/
DTSTAMP:20260420T002232
UID:69e5b818ea5b6
END:VEVENT
END:VCALENDAR