BEGIN:VCALENDAR
VERSION:2.0
PRODID:-//hacksw/handcal//NONSGML v1.0//EN
CALSCALE:GREGORIAN
BEGIN:VEVENT
LOCATION:
DESCRIPTION:https://chicagoonthecheap.com/event/free-cheescake-silce-at-cheesecake-factory/
DTSTART;TZID=America/Chicago:20260401T000000
DTEND;TZID=America/Chicago:20260507T235900
SUMMARY:Free Cheescake Silce at Cheesecake Factory
URL;VALUE=URI:https://chicagoonthecheap.com/event/free-cheescake-silce-at-cheesecake-factory/
DTSTAMP:20260419T185130
UID:69e56a82a221e
END:VEVENT
END:VCALENDAR