BEGIN:VCALENDAR
VERSION:2.0
PRODID:-//hacksw/handcal//NONSGML v1.0//EN
CALSCALE:GREGORIAN
BEGIN:VEVENT
LOCATION:
DESCRIPTION:https://chicagoonthecheap.com/event/dairy-queen-celebrates-summer-blizzard-treat-menu-for-2026-with-buy-one-get-one-deal/
DTSTART;TZID=America/Chicago:20260401T000000
DTEND;TZID=America/Chicago:20260426T235900
SUMMARY:Dairy Queen BOGO
URL;VALUE=URI:https://chicagoonthecheap.com/event/dairy-queen-celebrates-summer-blizzard-treat-menu-for-2026-with-buy-one-get-one-deal/
DTSTAMP:20260424T120843
UID:69eba39b45440
END:VEVENT
END:VCALENDAR