BEGIN:VCALENDAR
VERSION:2.0
PRODID:-//hacksw/handcal//NONSGML v1.0//EN
CALSCALE:GREGORIAN
BEGIN:VEVENT
LOCATION:
DESCRIPTION:https://chicagoonthecheap.com/event/auntie-annes-golden-pretzel-pass-untwists-free-pretzel-every-week-for-one-year/
DTSTART;TZID=America/Chicago:20260419T000000
DTEND;TZID=America/Chicago:20260426T235900
SUMMARY:Auntie Anne's Offers Free Pretzels for A Year
URL;VALUE=URI:https://chicagoonthecheap.com/event/auntie-annes-golden-pretzel-pass-untwists-free-pretzel-every-week-for-one-year/
DTSTAMP:20260422T091607
UID:69e8d8278441f
END:VEVENT
END:VCALENDAR